BEGIN:VCALENDAR
VERSION:2.0
PRODID:-//wp-events-plugin.com//7.2.3.1//EN
TZID:America/Toronto
X-WR-TIMEZONE:America/Toronto
BEGIN:VEVENT
UID:122@hanovercurlingclub.com
DTSTART;TZID=America/Toronto:20260307T080000
DTEND;TZID=America/Toronto:20260307T190000
DTSTAMP:20251119T161223Z
URL:https://hanovercurlingclub.com/events/annual-doubles-bonspiel/
SUMMARY:Annual Doubles Bonspiel
DESCRIPTION:Annual Doubles Bonspiel.\n\nContact us at hanovercurlingclub@gm
 ail.com to register.
CATEGORIES:Bonspiels
LOCATION:Hanover Curling CLub\, 247 12th st\, Hanover\, Ontario\, N4N 1V2\,
  Canada
GEO:44.15307;-81.030088
X-APPLE-STRUCTURED-LOCATION;VALUE=URI;X-ADDRESS=247 12th st\, Hanover\, Ont
 ario\, N4N 1V2\, Canada;X-APPLE-RADIUS=100;X-TITLE=Hanover Curling CLub:ge
 o:44.15307,-81.030088
END:VEVENT
BEGIN:VTIMEZONE
TZID:America/Toronto
X-LIC-LOCATION:America/Toronto
BEGIN:STANDARD
DTSTART:20251102T010000
TZOFFSETFROM:-0400
TZOFFSETTO:-0500
TZNAME:EST
END:STANDARD
END:VTIMEZONE
END:VCALENDAR