BEGIN:VCALENDAR
VERSION:2.0
PRODID:-//wp-events-plugin.com//7.2.3.1//EN
TZID:America/Toronto
X-WR-TIMEZONE:America/Toronto
BEGIN:VEVENT
UID:128@hanovercurlingclub.com
DTSTART;TZID=America/Toronto:20260327T080000
DTEND;TZID=America/Toronto:20260329T190000
DTSTAMP:20260223T151432Z
URL:https://hanovercurlingclub.com/events/annual-presidents-bonspiel-weeke
 nd/
SUMMARY:Annual Presidents Bonspiel Weekend
DESCRIPTION:Annual Presidents Bonspiel.\n\nFriday March 27th: Drop-in Curli
 ng and Karaoke at 7:30PM\n\nSaturday March 28th: Presidents Bonspiel - 9am
  and 11am draws\, 2 eight end games\, 2 meals and live music starting at 5
 PM\n\nSunday March 29th: Caesar Sunday\, snacks and family skating at 10AM
 \n\nContact us at hanovercurlingclub@gmail.com to register.
CATEGORIES:Bonspiels
LOCATION:Hanover Curling CLub\, 247 12th st\, Hanover\, Ontario\, N4N 1V2\,
  Canada
GEO:44.15307;-81.030088
X-APPLE-STRUCTURED-LOCATION;VALUE=URI;X-ADDRESS=247 12th st\, Hanover\, Ont
 ario\, N4N 1V2\, Canada;X-APPLE-RADIUS=100;X-TITLE=Hanover Curling CLub:ge
 o:44.15307,-81.030088
END:VEVENT
BEGIN:VTIMEZONE
TZID:America/Toronto
X-LIC-LOCATION:America/Toronto
BEGIN:DAYLIGHT
DTSTART:20260308T030000
TZOFFSETFROM:-0500
TZOFFSETTO:-0400
TZNAME:EDT
END:DAYLIGHT
END:VTIMEZONE
END:VCALENDAR