BEGIN:VCALENDAR
VERSION:2.0
PRODID:-//wp-events-plugin.com//7.2.3.1//EN
TZID:America/Toronto
X-WR-TIMEZONE:America/Toronto
BEGIN:VEVENT
UID:3@hanovercurlingclub.com
DTSTART;TZID=America/Toronto:20250911T193000
DTEND;TZID=America/Toronto:20250911T210000
DTSTAMP:20250922T144548Z
URL:https://hanovercurlingclub.com/events/club-annual-general-meeting/
SUMMARY:Club Annual General Meeting
DESCRIPTION:All club members are encourage to attend the clubs AGM.
ATTACH;FMTTYPE=image/jpeg:https://hanovercurlingclub.com/wp-content/upload
 s/AGM.png
CATEGORIES:League
END:VEVENT
BEGIN:VTIMEZONE
TZID:America/Toronto
X-LIC-LOCATION:America/Toronto
BEGIN:DAYLIGHT
DTSTART:20250309T030000
TZOFFSETFROM:-0500
TZOFFSETTO:-0400
TZNAME:EDT
END:DAYLIGHT
END:VTIMEZONE
END:VCALENDAR