BEGIN:VCALENDAR
VERSION:2.0
PRODID:-//wp-events-plugin.com//7.2.3.1//EN
TZID:America/Toronto
X-WR-TIMEZONE:America/Toronto
BEGIN:VEVENT
UID:8@hanovercurlingclub.com
DTSTART;TZID=America/Toronto:20251004T090000
DTEND;TZID=America/Toronto:20251004T130000
DTSTAMP:20250921T222701Z
URL:https://hanovercurlingclub.com/events/club-registration-night-2/
SUMMARY:Club Registration Night
DESCRIPTION:Come out to the club to register for the upcoming season!
ATTACH;FMTTYPE=image/jpeg:https://hanovercurlingclub.com/wp-content/upload
 s/Registration-Oct2-4.jpg
CATEGORIES:Meetings
LOCATION:Hanover Curling CLub\, 247 12th st\, Hanover\, Ontario\, N4N 1V2\,
  Canada
GEO:44.15307;-81.030088
X-APPLE-STRUCTURED-LOCATION;VALUE=URI;X-ADDRESS=247 12th st\, Hanover\, Ont
 ario\, N4N 1V2\, Canada;X-APPLE-RADIUS=100;X-TITLE=Hanover Curling CLub:ge
 o:44.15307,-81.030088
END:VEVENT
BEGIN:VTIMEZONE
TZID:America/Toronto
X-LIC-LOCATION:America/Toronto
BEGIN:DAYLIGHT
DTSTART:20250309T030000
TZOFFSETFROM:-0500
TZOFFSETTO:-0400
TZNAME:EDT
END:DAYLIGHT
END:VTIMEZONE
END:VCALENDAR