BEGIN:VCALENDAR
VERSION:2.0
PRODID:-//wp-events-plugin.com//7.2.3.1//EN
TZID:America/Toronto
X-WR-TIMEZONE:America/Toronto
BEGIN:VEVENT
UID:107@hanovercurlingclub.com
DTSTART;TZID=America/Toronto:20251107T193000
DTEND;TZID=America/Toronto:20260306T220000
DTSTAMP:20260223T151040Z
URL:https://hanovercurlingclub.com/events/drop-in-curling/
SUMMARY:Drop-In Curling
DESCRIPTION:Friday 1st and 3rd of each month
CATEGORIES:Community Events
END:VEVENT
BEGIN:VTIMEZONE
TZID:America/Toronto
X-LIC-LOCATION:America/Toronto
BEGIN:STANDARD
DTSTART:20251102T010000
TZOFFSETFROM:-0400
TZOFFSETTO:-0500
TZNAME:EST
END:STANDARD
END:VTIMEZONE
END:VCALENDAR