BEGIN:VCALENDAR
VERSION:2.0
PRODID:-//wp-events-plugin.com//7.2.3.1//EN
TZID:America/Toronto
X-WR-TIMEZONE:America/Toronto
BEGIN:VEVENT
UID:6@hanovercurlingclub.com
DTSTART;TZID=America/Toronto:20250927T100000
DTEND;TZID=America/Toronto:20250927T150000
DTSTAMP:20250926T132025Z
URL:https://hanovercurlingclub.com/events/hanover-fall-market-in-the-squar
 e-food-booth/
SUMMARY:Hanover Fall Market in the Square - Food Booth
DESCRIPTION:Come visit and support the curling club’s food booth at the H
 anover Fall Market in the Square. Saturday September 27th from 10AM to 3PM
 . Come get a yummy lunch and say hello!
ATTACH;FMTTYPE=image/jpeg:https://hanovercurlingclub.com/wp-content/upload
 s/cartoon-fall-market.jpg
CATEGORIES:Community Events
LOCATION:Hanover Heritage Square\, 358 10th St\, Hanover\, Ontario\, Canada
GEO:44.152958;-81.025897
X-APPLE-STRUCTURED-LOCATION;VALUE=URI;X-ADDRESS=358 10th St\, Hanover\, Ont
 ario\, Canada;X-APPLE-RADIUS=100;X-TITLE=Hanover Heritage Square:geo:44.15
 2958,-81.025897
END:VEVENT
BEGIN:VTIMEZONE
TZID:America/Toronto
X-LIC-LOCATION:America/Toronto
BEGIN:DAYLIGHT
DTSTART:20250309T030000
TZOFFSETFROM:-0500
TZOFFSETTO:-0400
TZNAME:EDT
END:DAYLIGHT
END:VTIMEZONE
END:VCALENDAR