BEGIN:VCALENDAR
VERSION:2.0
PRODID:-//wp-events-plugin.com//7.2.3.1//EN
TZID:America/Toronto
X-WR-TIMEZONE:America/Toronto
BEGIN:VEVENT
UID:84@hanovercurlingclub.com
DTSTART;TZID=America/Toronto:20251030T193000
DTEND;TZID=America/Toronto:20260326T220000
DTSTAMP:20251119T164026Z
URL:https://hanovercurlingclub.com/events/rec-and-ladies-league/
SUMMARY:Recreational League
DESCRIPTION:Recreational League
ATTACH;FMTTYPE=image/jpeg:https://hanovercurlingclub.com/wp-content/upload
 s/League-Ladies.webp
CATEGORIES:League
LOCATION:Hanover Curling CLub\, 247 12th st\, Hanover\, Ontario\, N4N 1V2\,
  Canada
GEO:44.15307;-81.030088
X-APPLE-STRUCTURED-LOCATION;VALUE=URI;X-ADDRESS=247 12th st\, Hanover\, Ont
 ario\, N4N 1V2\, Canada;X-APPLE-RADIUS=100;X-TITLE=Hanover Curling CLub:ge
 o:44.15307,-81.030088
END:VEVENT
BEGIN:VTIMEZONE
TZID:America/Toronto
X-LIC-LOCATION:America/Toronto
BEGIN:DAYLIGHT
DTSTART:20250309T030000
TZOFFSETFROM:-0500
TZOFFSETTO:-0400
TZNAME:EDT
END:DAYLIGHT
BEGIN:STANDARD
DTSTART:20251102T010000
TZOFFSETFROM:-0400
TZOFFSETTO:-0500
TZNAME:EST
END:STANDARD
BEGIN:DAYLIGHT
DTSTART:20260308T030000
TZOFFSETFROM:-0500
TZOFFSETTO:-0400
TZNAME:EDT
END:DAYLIGHT
END:VTIMEZONE
END:VCALENDAR