BEGIN:VCALENDAR
VERSION:2.0
PRODID:-//wp-events-plugin.com//7.2.3.1//EN
TZID:America/Toronto
X-WR-TIMEZONE:America/Toronto
BEGIN:VEVENT
UID:31@hanovercurlingclub.com
DTSTART;TZID=America/Toronto:20251104T133000
DTEND;TZID=America/Toronto:20260317T160000
DTSTAMP:20250922T005019Z
URL:https://hanovercurlingclub.com/events/seniors-curling-drop-in/
SUMMARY:Senior's Curling Drop In
DESCRIPTION:[et_pb_section admin_label="section"]\n			[et_pb_row admin_labe
 l="row"]\n				[et_pb_column type="4_4"][et_pb_text admin_label="Text"]Seni
 ors Drop-in Curling[/et_pb_text][/et_pb_column]\n			[/et_pb_row]\n		[/et_p
 b_section]
ATTACH;FMTTYPE=image/jpeg:https://hanovercurlingclub.com/wp-content/upload
 s/League-Seniors.webp
CATEGORIES:League
END:VEVENT
BEGIN:VTIMEZONE
TZID:America/Toronto
X-LIC-LOCATION:America/Toronto
BEGIN:STANDARD
DTSTART:20251102T010000
TZOFFSETFROM:-0400
TZOFFSETTO:-0500
TZNAME:EST
END:STANDARD
BEGIN:DAYLIGHT
DTSTART:20260308T030000
TZOFFSETFROM:-0500
TZOFFSETTO:-0400
TZNAME:EDT
END:DAYLIGHT
END:VTIMEZONE
END:VCALENDAR