BEGIN:VCALENDAR
VERSION:2.0
PRODID:-//wp-events-plugin.com//7.2.3.1//EN
TZID:America/Toronto
X-WR-TIMEZONE:America/Toronto
BEGIN:VEVENT
UID:129@hanovercurlingclub.com
DTSTART;TZID=America/Toronto:20260508T190000
DTEND;TZID=America/Toronto:20260508T230000
DTSTAMP:20260316T154614Z
URL:https://hanovercurlingclub.com/events/the-great-canadian-dueling-piano
 s/
SUMMARY:The Great Canadian Dueling Pianos
DESCRIPTION:\nGet Ready for a Night of High-Energy Fun with Dueling Pianos 
 with all ticket sales going to support the Hanover Curling Club!\nGet Read
 y for a Night of High-Energy Fun with the Great Canadian Dueling Pianos!\n
 \nJoin us for an unforgettable night of live music\, singing\, dancing and
  non-stop entertainment! The Great Canadian Dueling Pianos are bringing th
 eir electrifying show to town\, where two talented pianists will take the 
 stage and battle it out\, playing your favourite hits\, taking audience re
 quests\, and keeping the crowd singing and dancing all night long!\n\nMore
  information on Dueling Pianos\n\nShowtime: 7:30 PM – 11:00 PM (Doors op
 en at 7:00PM)\n\nTickets: $30 + tax/fees\n\nCASH BAR ONLY\n\nAge of Majori
 ty Event
CATEGORIES:Community Events,External Events
LOCATION:The Carriage House Event Centre\, 265 5th Street\, Hanover\, ON N4
 N 3X3\, Hanover\, Ontario\, N4N3X3\, Canada
GEO:44.146261;-81.027389
X-APPLE-STRUCTURED-LOCATION;VALUE=URI;X-ADDRESS=265 5th Street\, Hanover\, 
 ON N4N 3X3\, Hanover\, Ontario\, N4N3X3\, Canada;X-APPLE-RADIUS=100;X-TITL
 E=The Carriage House Event Centre:geo:44.146261,-81.027389
END:VEVENT
BEGIN:VTIMEZONE
TZID:America/Toronto
X-LIC-LOCATION:America/Toronto
BEGIN:DAYLIGHT
DTSTART:20260308T030000
TZOFFSETFROM:-0500
TZOFFSETTO:-0400
TZNAME:EDT
END:DAYLIGHT
END:VTIMEZONE
END:VCALENDAR